BEGIN:VCALENDAR
VERSION:2.0
PRODID:-//Plone.org//NONSGML plone.app.event//EN
X-WR-TIMEZONE:US/Central
BEGIN:VEVENT
SUMMARY:Closed
DTSTART;VALUE=DATE:20250217
DTEND;VALUE=DATE:20250218
DTSTAMP:20260421T124300Z
UID:dd700896706f4569ad5c16c191cc6d58@saas_stack_varnish:6080
CREATED:20250110T050409Z
DESCRIPTION:President's Day
LAST-MODIFIED:20250110T050421Z
URL:https://www.dadecolib.org/calendar-news/events/closed-11
END:VEVENT
END:VCALENDAR
